BEGIN:VCALENDAR
VERSION:2.0
PRODID:-//wp-events-plugin.com//7.2.3.1//EN
BEGIN:VEVENT
UID:119@mitzvahouse.com
DTSTART;TZID=America/New_York:20250923T153000
DTEND;TZID=America/New_York:20250923T163000
DTSTAMP:20250919T155726Z
URL:https://mitzvahouse.com/eventsn/tashlich-the-club/
SUMMARY:Tashlich @ the Club
DESCRIPTION:Tashlich at the Club. Hear the shofar\, do a holiday craft\, en
 joy story time\, fun on the playground\, and then we’ll all toss last ye
 ar’s mistakes to the fish in Kingsley Lake!\n\n\n\n         #wrapper {\n
             width: 100%\;\n            height: 100%\;\n            min-hei
 ght: 100vh\;\n        }\n        iframe {\n            border-radius: 0 !i
 mportant\;\nwidth: 100%!important\;\nheight: 100vh!important\;\n        }\
 n  \n
ATTACH;FMTTYPE=image/jpeg:https://mitzvahouse.com/wp-content/uploads/2025/
 09/website-events-48.png
LOCATION:Mitzvah House\, Dunwoody\, Dunwoody\, GA\, 30338\, United States
X-APPLE-STRUCTURED-LOCATION;VALUE=URI;X-ADDRESS=Dunwoody\, Dunwoody\, GA\, 
 30338\, United States;X-APPLE-RADIUS=100;X-TITLE=Mitzvah House:geo:0,0
END:VEVENT
BEGIN:VTIMEZONE
TZID:America/New_York
X-LIC-LOCATION:America/New_York
BEGIN:DAYLIGHT
DTSTART:20250309T030000
TZOFFSETFROM:-0500
TZOFFSETTO:-0400
TZNAME:EDT
END:DAYLIGHT
END:VTIMEZONE
END:VCALENDAR