BEGIN:VCALENDAR
VERSION:2.0
PRODID:-//wp-events-plugin.com//7.2.3.1//EN
BEGIN:VEVENT
UID:73@mitzvahouse.com
DTSTART:20260916T073000Z
DTEND:20261231T081500Z
DTSTAMP:20260203T191743Z
URL:https://mitzvahouse.com/eventsn/survey/
SUMMARY:Survey
DESCRIPTION:\n\n 	Disregard date/ times above*\n \n\n\n\n\n         #wrappe
 r {\n            width: 100%\;\n            height: 100%\;\n            mi
 n-height: 100vh\;\n        }\n        iframe {\n            border-radius:
  0 !important\;\nwidth: 100%!important\;\nheight: 100vh!important\;\n     
    }\n\n    \n    \n    \n\n
ATTACH;FMTTYPE=image/jpeg:https://mitzvahouse.com/wp-content/uploads/2024/
 06/Plastic-holder-events-15.png
END:VEVENT
END:VCALENDAR