BEGIN:VCALENDAR
VERSION:2.0
PRODID:-//wp-events-plugin.com//7.2.3.1//EN
BEGIN:VEVENT
UID:118@mitzvahouse.com
DTSTART;TZID=America/New_York:20250923T190000
DTEND;TZID=America/New_York:20250923T210000
DTSTAMP:20250909T162605Z
URL:https://mitzvahouse.com/eventsn/rhdinner/
SUMMARY:Rosh Hashana Dinner
DESCRIPTION:Celebrate together at 7 pm with a festive holiday dinner and th
 e powerful blast of the shofar.\n\n\n\n         #wrapper {\n            wi
 dth: 100%\;\n            height: 100%\;\n            min-height: 100vh\;\n
         }\n        iframe {\n            border-radius: 0 !important\;\nwi
 dth: 100%!important\;\nheight: 100vh!important\;\n        }\n  \n
ATTACH;FMTTYPE=image/jpeg:https://mitzvahouse.com/wp-content/uploads/2025/
 09/website-events-44.png
LOCATION:Mitzvah House\, Dunwoody\, Dunwoody\, GA\, 30338\, United States
X-APPLE-STRUCTURED-LOCATION;VALUE=URI;X-ADDRESS=Dunwoody\, Dunwoody\, GA\, 
 30338\, United States;X-APPLE-RADIUS=100;X-TITLE=Mitzvah House:geo:0,0
END:VEVENT
BEGIN:VTIMEZONE
TZID:America/New_York
X-LIC-LOCATION:America/New_York
BEGIN:DAYLIGHT
DTSTART:20250309T030000
TZOFFSETFROM:-0500
TZOFFSETTO:-0400
TZNAME:EDT
END:DAYLIGHT
END:VTIMEZONE
END:VCALENDAR