BEGIN:VCALENDAR
VERSION:2.0
PRODID:-//wp-events-plugin.com//7.2.3.1//EN
BEGIN:VEVENT
UID:88@mitzvahouse.com
DTSTART:20241222T100000Z
DTEND:20241222T120000Z
DTSTAMP:20241113T225051Z
URL:https://mitzvahouse.com/eventsn/menorah-workshop-ace-2/
SUMMARY:Menorah Workshop @ Ace
DESCRIPTION:Make + Paint a menorah & taste the flavors of chanukah \n\n
LOCATION:Ace\, 1316 Dunwoody Village Pkwy\, \, Dunwoody\, Ga\, 30338\, Unit
 ed States
X-APPLE-STRUCTURED-LOCATION;VALUE=URI;X-ADDRESS=1316 Dunwoody Village Pkwy\
 , \, Dunwoody\, Ga\, 30338\, United States;X-APPLE-RADIUS=100;X-TITLE=Ace:
 geo:0,0
END:VEVENT
END:VCALENDAR