BEGIN:VCALENDAR
VERSION:2.0
PRODID:-//wp-events-plugin.com//7.2.3.1//EN
BEGIN:VEVENT
UID:89@mitzvahouse.com
DTSTART:20241226T173000Z
DTEND:20241226T183000Z
DTSTAMP:20241223T211130Z
URL:https://mitzvahouse.com/eventsn/menorah-lighting-at-dunwoody-village-2
 /
SUMMARY:Menorah lighting at Dunwoody Village
DESCRIPTION:Thursday Dec 26th is our fourth(!!) annual Menorah lighting at 
 Dunwoody Village. The great Rocco Lapaire will be doing fire tricks and st
 unts\, there will be a gelt drop and donuts and latkes\, and prizes\, oh m
 y! \nThis is perfect for your middle schoolers- but really the whole famil
 y should start Chanukah off on a high! \n\n\n\n
LOCATION:Dunwoody Village- The Bar(n)\, Dunwoody Village Pkwy\, Dunwoody\, 
 GA\, 30338\, United States
X-APPLE-STRUCTURED-LOCATION;VALUE=URI;X-ADDRESS=Dunwoody Village Pkwy\, Dun
 woody\, GA\, 30338\, United States;X-APPLE-RADIUS=100;X-TITLE=Dunwoody Vil
 lage- The Bar(n):geo:0,0
END:VEVENT
END:VCALENDAR