BEGIN:VCALENDAR
VERSION:2.0
PRODID:-//wp-events-plugin.com//7.2.3.1//EN
BEGIN:VEVENT
UID:146@mitzvahouse.com
DTSTART:20260531T103000Z
DTEND:20260531T113000Z
DTSTAMP:20260420T113725Z
URL:https://mitzvahouse.com/eventsn/her-brunch-club/
SUMMARY:Her Brunch Club
DESCRIPTION:\n\n 	Her Brunch Club. Learn torah over breakfast.\n\n\n\n     
     #wrapper {\n            width: 100%\;\n            height: 100%\;\n   
          min-height: 100vh\;\n        }\n        iframe {\n            bor
 der-radius: 0 !important\;\nwidth: 100%!important\;\nheight: 100vh!importa
 nt\;\n        }\n\n
ATTACH;FMTTYPE=image/jpeg:https://mitzvahouse.com/wp-content/uploads/2026/
 01/WhatsApp-Image-2026-04-17-at-1.21.23-AM-1.jpeg
LOCATION:Mitzvah Tents\, 2295 Delverton Drive \, Dunwoody\, GA\, 30338\, US
 A\, United States
X-APPLE-STRUCTURED-LOCATION;VALUE=URI;X-ADDRESS=2295 Delverton Drive \, Dun
 woody\, GA\, 30338\, USA\, United States;X-APPLE-RADIUS=100;X-TITLE=Mitzva
 h Tents:geo:0,0
END:VEVENT
END:VCALENDAR