BEGIN:VCALENDAR
VERSION:2.0
PRODID:-//wp-events-plugin.com//7.2.3.1//EN
BEGIN:VEVENT
UID:141@mitzvahouse.com
DTSTART:20260503T110000Z
DTEND:20260503T123000Z
DTSTAMP:20260417T132102Z
URL:https://mitzvahouse.com/eventsn/brunch-club/
SUMMARY:Men's Brunch Club
DESCRIPTION:\n\n 	Breakfast with all the fixings. Morning meditation. Sunda
 y morning connection.\n\n\n\n         #wrapper {\n            width: 100%\
 ;\n            height: 100%\;\n            min-height: 100vh\;\n        }\
 n        iframe {\n            border-radius: 0 !important\;\nwidth: 100%!
 important\;\nheight: 100vh!important\;\n        }\n\n
ATTACH;FMTTYPE=image/jpeg:https://mitzvahouse.com/wp-content/uploads/2026/
 01/WhatsApp-Image-2026-04-17-at-1.21.08-AM.jpeg
LOCATION:Mitzvah Tents\, 2295 Delverton Drive \, Dunwoody\, GA\, 30338\, US
 A\, United States
X-APPLE-STRUCTURED-LOCATION;VALUE=URI;X-ADDRESS=2295 Delverton Drive \, Dun
 woody\, GA\, 30338\, USA\, United States;X-APPLE-RADIUS=100;X-TITLE=Mitzva
 h Tents:geo:0,0
END:VEVENT
END:VCALENDAR