BEGIN:VCALENDAR
VERSION:2.0
PRODID:-//wp-events-plugin.com//7.2.3.1//EN
BEGIN:VEVENT
UID:98@mitzvahouse.com
DTSTART:20250227T190000Z
DTEND:20250227T203000Z
DTSTAMP:20250130T022906Z
URL:https://mitzvahouse.com/eventsn/big-babka-bake-2/
SUMMARY:Big Babka Bake
DESCRIPTION:A spirited &amp\; uplifting evening for women connecting over t
 he ancient &amp\; mystical art of making challah &amp\; babka\n
ATTACH;FMTTYPE=image/jpeg:https://mitzvahouse.com/wp-content/uploads/2025/
 01/website-events-11.png
LOCATION:Mitzvah House Library\, 2488 Mt Vernon RD\, Dunwoody\, GA\, 30338\
 , United States
X-APPLE-STRUCTURED-LOCATION;VALUE=URI;X-ADDRESS=2488 Mt Vernon RD\, Dunwood
 y\, GA\, 30338\, United States;X-APPLE-RADIUS=100;X-TITLE=Mitzvah House Li
 brary:geo:0,0
END:VEVENT
END:VCALENDAR