BEGIN:VCALENDAR
VERSION:2.0
PRODID:-//wp-events-plugin.com//7.2.3.1//EN
BEGIN:VEVENT
UID:117@mitzvahouse.com
DTSTART;TZID=America/New_York:20250907T140000
DTEND;TZID=America/New_York:20250907T190000
DTSTAMP:20250903T203334Z
URL:https://mitzvahouse.com/eventsn/bgd/
SUMMARY:GREAT BIG GIVING DAY
DESCRIPTION:The Great Big Giving Day\nKick off the year doing something tha
 t actually matters. Bring the fam\, stir the soup\, feel the joy\, and vol
 unteer together. Come ready to roll up your sleeves (and maybe lick the sp
 oon).\n\n\n\n         #wrapper {\n            width: 100%\;\n            h
 eight: 100%\;\n            min-height: 100vh\;\n        }\n        iframe 
 {\n            border-radius: 0 !important\;\nwidth: 100%!important\;\nhei
 ght: 100vh!important\;\n        }\n  \n
ATTACH;FMTTYPE=image/jpeg:https://mitzvahouse.com/wp-content/uploads/2025/
 07/more-events-2025.png
LOCATION:Kingsley Club House\, 2325 N Peachtree Way\,  Atlanta\,  GA\, 3033
 8\, United States
X-APPLE-STRUCTURED-LOCATION;VALUE=URI;X-ADDRESS=2325 N Peachtree Way\,  Atl
 anta\,  GA\, 30338\, United States;X-APPLE-RADIUS=100;X-TITLE=Kingsley Clu
 b House:geo:0,0
END:VEVENT
BEGIN:VTIMEZONE
TZID:America/New_York
X-LIC-LOCATION:America/New_York
BEGIN:DAYLIGHT
DTSTART:20250309T030000
TZOFFSETFROM:-0500
TZOFFSETTO:-0400
TZNAME:EDT
END:DAYLIGHT
END:VTIMEZONE
END:VCALENDAR