BEGIN:VCALENDAR
VERSION:2.0
PRODID:-//wp-events-plugin.com//7.2.3.1//EN
BEGIN:VEVENT
UID:97@mitzvahouse.com
DTSTART;TZID=America/New_York:20250130T151500
DTEND;TZID=America/New_York:20250213T160000
DTSTAMP:20250205T041559Z
URL:https://mitzvahouse.com/eventsn/baby-loves-shabbat-winter-session-2/
SUMMARY:Baby Loves Shabbat Winter Session
DESCRIPTION:&nbsp\;\n\nPlay date with your little one as we braid challah\,
  drink grape juice\, sing &amp\; dance. For babies ages 0-36m\n\n\n       
   #wrapper {\n            width: 100%\;\n            height: 100%\;\n     
        min-height: 100vh\;\n        }\n        iframe {\n            borde
 r-radius: 0 !important\;\nwidth: 100%!important\;\nheight: 100vh!important
 \;\n        }\n\n    \n    \n    
ATTACH;FMTTYPE=image/jpeg:https://mitzvahouse.com/wp-content/uploads/2025/
 01/website-events-16.png
LOCATION:Mitzvah House Library\, 2488 Mt Vernon RD\, Dunwoody\, GA\, 30338\
 , United States
X-APPLE-STRUCTURED-LOCATION;VALUE=URI;X-ADDRESS=2488 Mt Vernon RD\, Dunwood
 y\, GA\, 30338\, United States;X-APPLE-RADIUS=100;X-TITLE=Mitzvah House Li
 brary:geo:0,0
END:VEVENT
BEGIN:VTIMEZONE
TZID:America/New_York
X-LIC-LOCATION:America/New_York
BEGIN:STANDARD
DTSTART:20241103T010000
TZOFFSETFROM:-0400
TZOFFSETTO:-0500
TZNAME:EST
END:STANDARD
END:VTIMEZONE
END:VCALENDAR